BEGIN:VCALENDAR
VERSION:2.0
PRODID:-//wp-events-plugin.com//7.2.3.1//EN
TZID:Europe/Rome
X-WR-TIMEZONE:Europe/Rome
BEGIN:VEVENT
UID:15@ghosthunterpadova.com
DTSTART;TZID=Europe/Rome:20230211T163000
DTEND;TZID=Europe/Rome:20230211T183000
DTSTAMP:20230210T164028Z
URL:https://www.ghosthunterpadova.com/events/presentazione-del-libro-sotto
 -il-segno-del-drago/
SUMMARY:Presentazione del libro "Sotto il segno del Drago"
DESCRIPTION:Sabato 11 febbraio presso il Castello di San Martino della Vane
 za a Cervarese Santa Croce\, alle ore 16.30 si terrà la presentazione del
  libro "Sotto il segno del  Drago"\, un thriller avventuroso ambientato i
 n terre padane\, dove medievale e contemporaneo si fondono sulle tracce de
 l tiranno Ezzelino III da Romano. Sarà presente l'autrice Anna Zanibelli.
  Moderatrice dell'evento la giornalista Marina D'arcangelo\n\nVerranno rac
 contati alcuni aneddoti sulla figura dello uno dei più importanti protago
 nisti della storia medievale. Uomo del suo tempo\, vissuto in un’epoca s
 anguinaria\, ma dotato di intelligenza acutissima e dalle lungimiranti vis
 ioni che lo hanno portato a riunire in un unico dominio una regione divisa
  in tanti feudi\, principati religiosi e ordini ecclesiastici. Un personag
 gio spesso dimenticato dalla storia\, probabilmente perché etichettato co
 me “figlio del diavolo” per le atrocità commesse\, ma comunque sempre
  una figura politica controversa degna di attenzione.\n\nA seguire visita 
 guidata sulla storia e le curiosità del castello a cura dell’Associazio
 ne.\n\n Evento su prenotazione(per questioni organizzative e logistiche)e 
 al costo di €5 compresivi di entrata al castello\, visita guidata e cali
 ce di vino. Pagamento da effettuare direttamente alla cassa del castello.\
 n\nDate le caratteristiche della location storica\, l’evento non è adat
 to a persone con difficoltà motorie.\n\nIn caso di maltempo l’evento ve
 rrà annullato.\nAccesso all’area museale SOLO se prenotati.
CATEGORIES:Eventi prenotabili
LOCATION:Castello di San Martino della Vaneza\, Via Castello 2\, CERVARESE 
 SANTA CROCE\, PD\, 35030\, Veneto\, Italia
X-APPLE-STRUCTURED-LOCATION;VALUE=URI;X-ADDRESS=Via Castello 2\, CERVARESE 
 SANTA CROCE\, PD\, 35030\, Veneto\, Italia;X-APPLE-RADIUS=100;X-TITLE=Cast
 ello di San Martino della Vaneza:geo:0,0
END:VEVENT
BEGIN:VTIMEZONE
TZID:Europe/Rome
X-LIC-LOCATION:Europe/Rome
BEGIN:STANDARD
DTSTART:20221030T020000
TZOFFSETFROM:+0200
TZOFFSETTO:+0100
TZNAME:CET
END:STANDARD
END:VTIMEZONE
END:VCALENDAR